BEGIN:VCALENDAR
VERSION:2.0
PRODID:spatie/icalendar-generator
DESCRIPTION:Events from Village of Alliance
X-WR-CALDESC:Events from Village of Alliance
REFRESH-INTERVAL;VALUE=DURATION:PT1440M
X-PUBLISHED-TTL:PT1440M
BEGIN:VTIMEZONE
TZID:America/Edmonton
BEGIN:STANDARD
DTSTART:20251102T020000Z
TZOFFSETFROM:-0600
TZOFFSETTO:-0700
END:STANDARD
BEGIN:DAYLIGHT
DTSTART:20260308T020000Z
TZOFFSETFROM:-0700
TZOFFSETTO:-0600
END:DAYLIGHT
BEGIN:STANDARD
DTSTART:20261101T020000Z
TZOFFSETFROM:-0600
TZOFFSETTO:-0700
END:STANDARD
END:VTIMEZONE
BEGIN:VTIMEZONE
TZID:UTC
BEGIN:STANDARD
DTSTART:20250725T041636Z
TZOFFSETFROM:+0000
TZOFFSETTO:+0000
END:STANDARD
END:VTIMEZONE
BEGIN:VEVENT
UID:137-6
DTSTAMP:20260421T041636Z
SUMMARY:Alliance Farmers Market
LOCATION:Alliance Community Hall 114 1st Ave East  Alliance Alberta t0b0a0
ORGANIZER;CN=valliance:MAILTO:cao@villageofalliance.ca
RRULE:FREQ=MONTHLY;BYDAY=2TH;UNTIL=20301114T000000Z
DTSTART;TZID=America/Edmonton:20260514T160000
DTEND;TZID=America/Edmonton:20260514T200000
X-ALT-DESC;FMTTYPE=TEXT/HTML:
CATEGORIES:Farmers Market
URL;VALUE=URI:https://www.villageofalliance.ca/mc-events/alliance-farmers-m
 arket/?mc_id=137
METHOD:PUBLISH
END:VEVENT
END:VCALENDAR