BEGIN:VCALENDAR
VERSION:2.0
PRODID:spatie/icalendar-generator
DESCRIPTION:Events from Village of Alliance
X-WR-CALDESC:Events from Village of Alliance
REFRESH-INTERVAL;VALUE=DURATION:PT1440M
X-PUBLISHED-TTL:PT1440M
BEGIN:VTIMEZONE
TZID:America/Edmonton
BEGIN:STANDARD
DTSTART:20251102T020000Z
TZOFFSETFROM:-0600
TZOFFSETTO:-0700
END:STANDARD
BEGIN:DAYLIGHT
DTSTART:20260308T020000Z
TZOFFSETFROM:-0700
TZOFFSETTO:-0600
END:DAYLIGHT
BEGIN:STANDARD
DTSTART:20261101T020000Z
TZOFFSETFROM:-0600
TZOFFSETTO:-0700
END:STANDARD
END:VTIMEZONE
BEGIN:VTIMEZONE
TZID:UTC
BEGIN:STANDARD
DTSTART:20250725T040331Z
TZOFFSETFROM:+0000
TZOFFSETTO:+0000
END:STANDARD
END:VTIMEZONE
BEGIN:VEVENT
UID:19-5
DTSTAMP:20260421T040331Z
SUMMARY:Village Council Meeting
LOCATION:Village Office 209 Main street  Alliance AB T0B 0A0
ORGANIZER;CN=valliance:MAILTO:cao@villageofalliance.ca
RRULE:FREQ=MONTHLY;BYDAY=3TH;UNTIL=20300418T000000Z
DTSTART;TZID=America/Edmonton:20260521T160000
DTEND;TZID=America/Edmonton:20260521T170000
X-ALT-DESC;FMTTYPE=TEXT/HTML:Council meetings are every 3rd Thursday of the
  month at 4pm. If date and/or time is changed\, notice will be posted on t
 he Office door and on our website.
CATEGORIES:Council Meeting
URL;VALUE=URI:https://www.villageofalliance.ca/mc-events/village-council-me
 eting/?mc_id=19
METHOD:PUBLISH
END:VEVENT
END:VCALENDAR