BEGIN:VCALENDAR
VERSION:2.0
PRODID:spatie/icalendar-generator
DESCRIPTION:Events from Village of Alliance
X-WR-CALDESC:Events from Village of Alliance
REFRESH-INTERVAL;VALUE=DURATION:PT1440M
X-PUBLISHED-TTL:PT1440M
BEGIN:VTIMEZONE
TZID:America/Edmonton
BEGIN:STANDARD
DTSTART:20241103T020000Z
TZOFFSETFROM:-0600
TZOFFSETTO:-0700
END:STANDARD
BEGIN:DAYLIGHT
DTSTART:20250309T020000Z
TZOFFSETFROM:-0700
TZOFFSETTO:-0600
END:DAYLIGHT
BEGIN:STANDARD
DTSTART:20251102T020000Z
TZOFFSETFROM:-0600
TZOFFSETTO:-0700
END:STANDARD
END:VTIMEZONE
BEGIN:VTIMEZONE
TZID:UTC
BEGIN:STANDARD
DTSTART:20250724T121656Z
TZOFFSETFROM:+0000
TZOFFSETTO:+0000
END:STANDARD
END:VTIMEZONE
BEGIN:VEVENT
UID:5-4
DTSTAMP:20260420T121656Z
SUMMARY:Opening day! Alliance Museum
LOCATION:Alliance Museum 306 2 Ave E  Alliance AB T0B 0A0
ORGANIZER;CN=valliance:MAILTO:cao@villageofalliance.ca
DTSTART;TZID=America/Edmonton:20250503T130000
DTEND;TZID=America/Edmonton:20250503T160000
X-ALT-DESC;FMTTYPE=TEXT/HTML:
CATEGORIES:General
URL;VALUE=URI:https://www.villageofalliance.ca/mc-events/opening-day-allian
 ce-museum/
METHOD:PUBLISH
END:VEVENT
END:VCALENDAR